BEGIN:VCALENDAR
VERSION:2.0
PRODID:-//The Copacabana - ECPv6.15.20//NONSGML v1.0//EN
CALSCALE:GREGORIAN
METHOD:PUBLISH
X-ORIGINAL-URL:https://thecopanyc.com
X-WR-CALDESC:Events for The Copacabana
REFRESH-INTERVAL;VALUE=DURATION:PT1H
X-Robots-Tag:noindex
X-PUBLISHED-TTL:PT1H
BEGIN:VTIMEZONE
TZID:America/New_York
BEGIN:DAYLIGHT
TZOFFSETFROM:-0500
TZOFFSETTO:-0400
TZNAME:EDT
DTSTART:20250309T070000
END:DAYLIGHT
BEGIN:STANDARD
TZOFFSETFROM:-0400
TZOFFSETTO:-0500
TZNAME:EST
DTSTART:20251102T060000
END:STANDARD
BEGIN:DAYLIGHT
TZOFFSETFROM:-0500
TZOFFSETTO:-0400
TZNAME:EDT
DTSTART:20260308T070000
END:DAYLIGHT
BEGIN:STANDARD
TZOFFSETFROM:-0400
TZOFFSETTO:-0500
TZNAME:EST
DTSTART:20261101T060000
END:STANDARD
BEGIN:DAYLIGHT
TZOFFSETFROM:-0500
TZOFFSETTO:-0400
TZNAME:EDT
DTSTART:20270314T070000
END:DAYLIGHT
BEGIN:STANDARD
TZOFFSETFROM:-0400
TZOFFSETTO:-0500
TZNAME:EST
DTSTART:20271107T060000
END:STANDARD
END:VTIMEZONE
BEGIN:VEVENT
DTSTART;TZID=America/New_York:20260314T200000
DTEND;TZID=America/New_York:20260315T010000
DTSTAMP:20260420T083430
CREATED:20260107T061356Z
LAST-MODIFIED:20260308T051843Z
UID:10000984-1773518400-1773536400@thecopanyc.com
SUMMARY:The Copacabana immersive Experience !!
DESCRIPTION:IMusic and Passion were always in Fashion\, At the Copa\, Copacabana!\nJoin us for the Official Copacabana Events hosted by the Legendary Owner John Juliano & nightlife impresario Ruben Rubin Cabrera.\n\nMusical voyage provided by Resident DJs.\nDance to Salsa\, Bachata\, Disco & More. \n\nExperience The sound\, sights\, and rhythm of the Iconic Copacabana.\nBe Passionately Greeted by the innovative and nostalgic “Copa Girls”\nEnjoy the midnight immersive performances.\n\nFashion and fun\, think Carnivale in Brazil or a beautiful resort as your fashion inspiration.\nWe welcome you with Ola\, a sultry shot infused with the taste of the tropics until 11pm. \nTable tickets included up to 6 guest per table. If it’s a birthday or any other occasion let us know for a champagne\, cupcakes\, balloons and appetizer on us !! Just give us a call/text 9175591779
URL:https://thecopanyc.com/event/the-copacabana-immersive-experience-18/
LOCATION:The Copacabana\, 625 w 51 st\, New York\, NY\, 10019\, United States
ATTACH;FMTTYPE=image/jpeg:https://thecopanyc.com/wp-content/uploads/2026/01/IMG_1872.jpeg
END:VEVENT
BEGIN:VEVENT
DTSTART;TZID=America/New_York:20260318T190000
DTEND;TZID=America/New_York:20260318T220000
DTSTAMP:20260420T083430
CREATED:20260318T150622Z
LAST-MODIFIED:20260318T150622Z
UID:10000999-1773860400-1773871200@thecopanyc.com
SUMMARY:The Comedy Copacabana immersive Experience !!
DESCRIPTION:IMusic and Passion were always in Fashion\, At the Copa\, Copacabana!\nJoin us for the Official Copacabana Events hosted by the Legendary Owner John Juliano & nightlife impresario Ruben Rubin Cabrera.\n\nMusical voyage provided by Resident DJs.\nDance Music  & More. \n\nExperience The sound\, sights\, and rhythm of the Iconic Copacabana.\nTable tickets included up to 6 guest per table. If it’s a birthday or any other occasion let us know for a champagne\, cupcakes\, balloons and appetizer on us !! Just give us a call/text 9175591779
URL:https://thecopanyc.com/event/the-comedy-copacabana-immersive-experience-2/
LOCATION:The Copacabana\, 625 w 51 st\, New York\, NY\, 10019\, United States
ATTACH;FMTTYPE=image/png:https://thecopanyc.com/wp-content/uploads/2026/03/3286778496764835376.png
END:VEVENT
BEGIN:VEVENT
DTSTART;TZID=America/New_York:20260321T200000
DTEND;TZID=America/New_York:20260322T030000
DTSTAMP:20260420T083430
CREATED:20260308T051247Z
LAST-MODIFIED:20260322T013504Z
UID:10000998-1774123200-1774148400@thecopanyc.com
SUMMARY:The Copacabana immersive Experience !!
DESCRIPTION:IMusic and Passion were always in Fashion\, At the Copa\, Copacabana!\nJoin us for the Official Copacabana Events hosted by the Legendary Owner John Juliano & nightlife impresario Ruben Rubin Cabrera.\n\nMusical voyage provided by Resident DJs.\nDance to Salsa\, Bachata\, Disco & More. \n\nExperience The sound\, sights\, and rhythm of the Iconic Copacabana.\nBe Passionately Greeted by the innovative and nostalgic “Copa Girls”\nEnjoy the midnight immersive performances.\n\nFashion and fun\, think Carnivale in Brazil or a beautiful resort as your fashion inspiration.\nWe welcome you with Ola\, a sultry shot infused with the taste of the tropics until 11pm. \nTable tickets included up to 6 guest per table. If it’s a birthday or any other occasion let us know for a champagne\, cupcakes\, balloons and appetizer on us !! Just give us a call/text 9175591779
URL:https://thecopanyc.com/event/the-copacabana-immersive-experience-3/
LOCATION:The Copacabana\, 625 w 51 st\, New York\, NY\, 10019\, United States
ATTACH;FMTTYPE=image/jpeg:https://thecopanyc.com/wp-content/uploads/2025/11/IMG_1069.jpeg
END:VEVENT
BEGIN:VEVENT
DTSTART;TZID=America/New_York:20260327T183000
DTEND;TZID=America/New_York:20260328T000000
DTSTAMP:20260420T083430
CREATED:20260325T191506Z
LAST-MODIFIED:20260325T191704Z
UID:10001003-1774636200-1774656000@thecopanyc.com
SUMMARY:The Copacabana Hustle jam immersive social
DESCRIPTION:IMusic and Passion were always in Fashion\, At the Copa\, Copacabana!\nJoin us for the Official Copacabana Events hosted by the Legendary Owner John Juliano & nightlife impresario Ruben Rubin Cabrera.\n\nMusical voyage provided by Resident DJs.\nDance to Disco & More. \n\nExperience The sound\, sights\, and rhythm of the Iconic Copacabana.\nBe Passionately Greeted by the innovative and nostalgic “Copa Girls”\nEnjoy the midnight immersive performances.\n\nFashion and fun\, think Carnivale in Brazil or a beautiful resort as your fashion inspiration.\nWe welcome you with Ola\, a sultry shot infused with the taste of the tropics until 11pm. \nTable tickets included up to 6 guest per table. If it’s a birthday or any other occasion let us know for a champagne\, cupcakes\, balloons and appetizer on us !! Just give us a call/text 9175591779
URL:https://thecopanyc.com/event/the-copacabana-hustle-jam-immersive-social/
LOCATION:The Copacabana\, 625 w 51 st\, New York\, NY\, 10019\, United States
ATTACH;FMTTYPE=image/jpeg:https://thecopanyc.com/wp-content/uploads/2026/01/springBday.jpeg
END:VEVENT
BEGIN:VEVENT
DTSTART;TZID=America/New_York:20260328T180000
DTEND;TZID=America/New_York:20260329T230000
DTSTAMP:20260420T083430
CREATED:20260107T061706Z
LAST-MODIFIED:20260318T152218Z
UID:10000986-1774720800-1774825200@thecopanyc.com
SUMMARY:The Copacabana Hustle & Salsa Social immersive
DESCRIPTION:IMusic and Passion were always in Fashion\, At the Copa\, Copacabana!\nJoin us for the Official Copacabana Events hosted by the Legendary Owner John Juliano & nightlife impresario Ruben Rubin Cabrera.\n\nMusical voyage provided by Resident DJs.\nDance to Disco \,Salsa\, Bachata\,  & More. \n\nExperience The sound\, sights\, and rhythm of the Iconic Copacabana.\nBe Passionately Greeted by the innovative and nostalgic “Copa Girls”\nEnjoy the midnight immersive performances.\n\nFashion and fun\, think Carnivale in Brazil or a beautiful resort as your fashion inspiration.\nWe welcome you with Ola\, a sultry shot infused with the taste of the tropics until 11pm. \nTable tickets included up to 6 guest per table. If it’s a birthday or any other occasion let us know for a champagne\, cupcakes\, balloons and appetizer on us !! Just give us a call/text 9175591779
URL:https://thecopanyc.com/event/the-copacabana-immersive-experience-20/
LOCATION:The Copacabana\, 625 w 51 st\, New York\, NY\, 10019\, United States
ATTACH;FMTTYPE=image/jpeg:https://thecopanyc.com/wp-content/uploads/2026/01/IMG_1919.jpeg
END:VEVENT
BEGIN:VEVENT
DTSTART;TZID=America/New_York:20260328T220000
DTEND;TZID=America/New_York:20260329T040000
DTSTAMP:20260420T083430
CREATED:20260318T151440Z
LAST-MODIFIED:20260318T152959Z
UID:10001000-1774735200-1774756800@thecopanyc.com
SUMMARY:The Copacabana immersive Experience !!
DESCRIPTION:IMusic and Passion were always in Fashion\, At the Copa\, Copacabana!\nJoin us for the Official Copacabana Events hosted by the Legendary Owner John Juliano & nightlife impresario Ruben Rubin Cabrera.\n\nMusical voyage provided by nyc Resident DJs. \n\nExperience The sound\, sights\, and rhythm of the Iconic Copacabana.\nEnjoy the midnight immersive performances.\n\nFashion and fun\, think Carnivale in Brazil or a beautiful resort as your fashion inspiration.\nWe welcome you with Ola shot\, a sultry shot infused with the taste of the tropics until 11pm. \nTable tickets included up to 6 guest per table. If it’s a birthday or any other occasion let us know for a champagne\, cupcakes\, balloons and appetizer on us !! Just give us a call/text 9175591779
URL:https://thecopanyc.com/event/the-copacabana-immersive-experience-4/
LOCATION:The Copacabana\, 625 w 51 st\, New York\, NY\, 10019\, United States
ATTACH;FMTTYPE=image/jpeg:https://thecopanyc.com/wp-content/uploads/2026/03/IMG_8936-scaled.jpeg
END:VEVENT
BEGIN:VEVENT
DTSTART;TZID=America/New_York:20260404T200000
DTEND;TZID=America/New_York:20260405T030000
DTSTAMP:20260420T083430
CREATED:20260331T022118Z
LAST-MODIFIED:20260331T022118Z
UID:10001005-1775332800-1775358000@thecopanyc.com
SUMMARY:The Copacabana immersive Party
DESCRIPTION:IMusic and Passion were always in Fashion\, At the Copa\, Copacabana!\nJoin us for the Official Copacabana Events hosted by the Legendary Owner John Juliano & nightlife impresario Ruben Rubin Cabrera.\n\nMusical voyage provided by Resident DJs.\nDance to Disco\, latin & More. \n\nExperience The sound\, sights\, and rhythm of the Iconic Copacabana.\nBe Passionately Greeted by the innovative and nostalgic “Copa Girls”\nEnjoy the midnight immersive performances.\n\nFashion and fun\, think Carnivale in Brazil or a beautiful resort as your fashion inspiration.\nWe welcome you with Ola\, a sultry shot infused with the taste of the tropics until 11pm. \nTable tickets included up to 6 guest per table. If it’s a birthday or any other occasion let us know for a champagne\, cupcakes\, balloons and appetizer on us !! Just give us a call/text 9175591779
URL:https://thecopanyc.com/event/the-copacabana-immersive-party/
LOCATION:The Copacabana\, 625 w 51 st\, New York\, NY\, 10019\, United States
ATTACH;FMTTYPE=image/jpeg:https://thecopanyc.com/wp-content/uploads/2025/11/IMG_1069.jpeg
END:VEVENT
BEGIN:VEVENT
DTSTART;TZID=America/New_York:20260409T200000
DTEND;TZID=America/New_York:20260410T000000
DTSTAMP:20260420T083430
CREATED:20260331T022310Z
LAST-MODIFIED:20260406T154940Z
UID:10001006-1775764800-1775779200@thecopanyc.com
SUMMARY:The Copacabana immersive Hustle Party
DESCRIPTION:IMusic and Passion were always in Fashion\, At the Copa\, Copacabana!\nJoin us for the Official Copacabana Events hosted by the Legendary Owner John Juliano & nightlife impresario Ruben Rubin Cabrera.\n\nMusical voyage provided by Resident DJs.\nDance to Disco\, latin & More. \n\nExperience The sound\, sights\, and rhythm of the Iconic Copacabana.\nBe Passionately Greeted by the innovative and nostalgic “Copa Girls”\nEnjoy the midnight immersive performances.\n\nFashion and fun\, think Carnivale in Brazil or a beautiful resort as your fashion inspiration.\nWe welcome you with Ola\, a sultry shot infused with the taste of the tropics until 11pm. \nTable tickets included up to 6 guest per table. If it’s a birthday or any other occasion let us know for a champagne\, cupcakes\, balloons and appetizer on us !! Just give us a call/text 9175591779
URL:https://thecopanyc.com/event/the-copacabana-immersive-party-2/
LOCATION:The Copacabana\, 625 w 51 st\, New York\, NY\, 10019\, United States
ATTACH;FMTTYPE=image/jpeg:https://thecopanyc.com/wp-content/uploads/2026/03/IMG_2082.jpeg
END:VEVENT
BEGIN:VEVENT
DTSTART;TZID=America/New_York:20260411T180000
DTEND;TZID=America/New_York:20260412T000000
DTSTAMP:20260420T083430
CREATED:20260406T155422Z
LAST-MODIFIED:20260410T155831Z
UID:10001013-1775930400-1775952000@thecopanyc.com
SUMMARY:The Copacabana immersive Latin Social  Party
DESCRIPTION:IMusic and Passion were always in Fashion\, At the Copa\, Copacabana!\nJoin us for the Official Copacabana Events hosted by the Legendary Owner John Juliano & nightlife impresario Ruben Rubin Cabrera.\n\nMusical voyage provided by Resident DJs.\nDance to Disco\, latin & More.Salsa lesson 6pm 4.11.26 \n\nExperience The sound\, sights\, and rhythm of the Iconic Copacabana.\nBe Passionately Greeted by the innovative and nostalgic “Copa Girls”\nEnjoy the midnight immersive performances.\n\nFashion and fun\, think Carnivale in Brazil or a beautiful resort as your fashion inspiration.\nWe welcome you with Ola\, a sultry shot infused with the taste of the tropics until 11pm. \nTable tickets included up to 6 guest per table. If it’s a birthday or any other occasion let us know for a champagne\, cupcakes\, balloons and appetizer on us !! Just give us a call/text 9175591779
URL:https://thecopanyc.com/event/the-copacabana-immersive-latin-social-party/
LOCATION:The Copacabana\, 625 w 51 st\, New York\, NY\, 10019\, United States
ATTACH;FMTTYPE=image/jpeg:https://thecopanyc.com/wp-content/uploads/2025/10/IMG_0746.jpeg
END:VEVENT
BEGIN:VEVENT
DTSTART;TZID=America/New_York:20260418T193000
DTEND;TZID=America/New_York:20260419T030000
DTSTAMP:20260420T083430
CREATED:20260327T184650Z
LAST-MODIFIED:20260327T184650Z
UID:10001004-1776540600-1776567600@thecopanyc.com
SUMMARY:The Copacabana Comedy live Band immersive Party
DESCRIPTION:IMusic and Passion were always in Fashion\, At the Copa\, Copacabana!\nJoin us for the Official Copacabana Events hosted by the Legendary Owner John Juliano & nightlife impresario Ruben Rubin Cabrera.\n\nMusical voyage provided by Resident DJs.\nDance to Disco\, latin & More. \n\nExperience The sound\, sights\, and rhythm of the Iconic Copacabana.\nBe Passionately Greeted by the innovative and nostalgic “Copa Girls”\nEnjoy the midnight immersive performances.\n\nFashion and fun\, think Carnivale in Brazil or a beautiful resort as your fashion inspiration.\nWe welcome you with Ola\, a sultry shot infused with the taste of the tropics until 11pm. \nTable tickets included up to 6 guest per table. If it’s a birthday or any other occasion let us know for a champagne\, cupcakes\, balloons and appetizer on us !! Just give us a call/text 9175591779
URL:https://thecopanyc.com/event/the-copacabana-comedy-live-band-immersive-party/
LOCATION:The Copacabana\, 625 w 51 st\, New York\, NY\, 10019\, United States
ATTACH;FMTTYPE=image/jpeg:https://thecopanyc.com/wp-content/uploads/2026/03/IMG_1994.jpeg
END:VEVENT
BEGIN:VEVENT
DTSTART;TZID=America/New_York:20260418T210000
DTEND;TZID=America/New_York:20260419T030000
DTSTAMP:20260420T083430
CREATED:20260331T022508Z
LAST-MODIFIED:20260331T022508Z
UID:10001007-1776546000-1776567600@thecopanyc.com
SUMMARY:The Copacabana immersive Party
DESCRIPTION:IMusic and Passion were always in Fashion\, At the Copa\, Copacabana!\nJoin us for the Official Copacabana Events hosted by the Legendary Owner John Juliano & nightlife impresario Ruben Rubin Cabrera.\n\nMusical voyage provided by Resident DJs.\nDance to Disco\, latin & More. \n\nExperience The sound\, sights\, and rhythm of the Iconic Copacabana.\nBe Passionately Greeted by the innovative and nostalgic “Copa Girls”\nEnjoy the midnight immersive performances.\n\nFashion and fun\, think Carnivale in Brazil or a beautiful resort as your fashion inspiration.\nWe welcome you with Ola\, a sultry shot infused with the taste of the tropics until 11pm. \nTable tickets included up to 6 guest per table. If it’s a birthday or any other occasion let us know for a champagne\, cupcakes\, balloons and appetizer on us !! Just give us a call/text 9175591779
URL:https://thecopanyc.com/event/the-copacabana-immersive-party-3/
LOCATION:The Copacabana\, 625 w 51 st\, New York\, NY\, 10019\, United States
ATTACH;FMTTYPE=image/jpeg:https://thecopanyc.com/wp-content/uploads/2025/11/IMG_1069.jpeg
END:VEVENT
BEGIN:VEVENT
DTSTART;TZID=America/New_York:20260423T190000
DTEND;TZID=America/New_York:20260423T230000
DTSTAMP:20260420T083430
CREATED:20260404T022249Z
LAST-MODIFIED:20260404T022249Z
UID:10001010-1776970800-1776985200@thecopanyc.com
SUMMARY:The Copacabana Comedy live Band immersive Party
DESCRIPTION:IMusic and Passion were always in Fashion\, At the Copa\, Copacabana!\nJoin us for the Official Copacabana Events hosted by the Legendary Owner John Juliano & nightlife impresario Ruben Rubin Cabrera.\n\nMusical voyage provided by Resident DJs.\nDance to Disco\, latin & More. \n\nExperience The sound\, sights\, and rhythm of the Iconic Copacabana.\nBe Passionately Greeted by the innovative and nostalgic “Copa Girls”\nEnjoy the midnight immersive performances.\n\nFashion and fun\, think Carnivale in Brazil or a beautiful resort as your fashion inspiration.\nWe welcome you with Ola\, a sultry shot infused with the taste of the tropics until 11pm. \nTable tickets included up to 6 guest per table. If it’s a birthday or any other occasion let us know for a champagne\, cupcakes\, balloons and appetizer on us !! Just give us a call/text 9175591779
URL:https://thecopanyc.com/event/the-copacabana-comedy-live-band-immersive-party-2/
LOCATION:The Copacabana\, 625 w 51 st\, New York\, NY\, 10019\, United States
ATTACH;FMTTYPE=image/jpeg:https://thecopanyc.com/wp-content/uploads/2026/04/902FD6EF-9B97-4A87-8235-8B67EF525E4F.jpeg
END:VEVENT
BEGIN:VEVENT
DTSTART;TZID=America/New_York:20260424T180000
DTEND;TZID=America/New_York:20260425T020000
DTSTAMP:20260420T083430
CREATED:20260420T010430Z
LAST-MODIFIED:20260420T010430Z
UID:10001019-1777053600-1777082400@thecopanyc.com
SUMMARY:The Copacabana immersive party
DESCRIPTION:IMusic and Passion were always in Fashion\, At the Copa\, Copacabana!\nJoin us for the Official Copacabana Events hosted by the Legendary Owner John Juliano & nightlife impresario Ruben Rubin Cabrera.\n\nMusical voyage provided by Resident DJs.\nDance to Disco Club Classics \, latin & More. \n\nExperience The sound\, sights\, and rhythm of the Iconic Copacabana.\nBe Passionately Greeted by the innovative and nostalgic “Copa Girls”\nEnjoy the midnight immersive performances.\n\nFashion and fun\, think Carnivale in Brazil or a beautiful resort as your fashion inspiration.\nWe welcome you with Ola\, a sultry shot infused with the taste of the tropics until 11pm. \nTable tickets included up to 6 guest per table. If it’s a birthday or any other occasion let us know for a champagne\, cupcakes\, balloons and appetizer on us !! Just give us a call/text 9175591779
URL:https://thecopanyc.com/event/the-copacabana-immersive-party-7/
LOCATION:The Copacabana\, 625 w 51 st\, New York\, NY\, 10019\, United States
ATTACH;FMTTYPE=image/jpeg:https://thecopanyc.com/wp-content/uploads/2026/04/IMG_2227.jpeg
END:VEVENT
BEGIN:VEVENT
DTSTART;TZID=America/New_York:20260425T200000
DTEND;TZID=America/New_York:20260426T030000
DTSTAMP:20260420T083430
CREATED:20260331T022650Z
LAST-MODIFIED:20260331T022650Z
UID:10001008-1777147200-1777172400@thecopanyc.com
SUMMARY:The Copacabana immersive Party
DESCRIPTION:IMusic and Passion were always in Fashion\, At the Copa\, Copacabana!\nJoin us for the Official Copacabana Events hosted by the Legendary Owner John Juliano & nightlife impresario Ruben Rubin Cabrera.\n\nMusical voyage provided by Resident DJs.\nDance to Disco\, latin & More. \n\nExperience The sound\, sights\, and rhythm of the Iconic Copacabana.\nBe Passionately Greeted by the innovative and nostalgic “Copa Girls”\nEnjoy the midnight immersive performances.\n\nFashion and fun\, think Carnivale in Brazil or a beautiful resort as your fashion inspiration.\nWe welcome you with Ola\, a sultry shot infused with the taste of the tropics until 11pm. \nTable tickets included up to 6 guest per table. If it’s a birthday or any other occasion let us know for a champagne\, cupcakes\, balloons and appetizer on us !! Just give us a call/text 9175591779
URL:https://thecopanyc.com/event/the-copacabana-immersive-party-4/
LOCATION:The Copacabana\, 625 w 51 st\, New York\, NY\, 10019\, United States
ATTACH;FMTTYPE=image/jpeg:https://thecopanyc.com/wp-content/uploads/2025/11/IMG_1069.jpeg
END:VEVENT
BEGIN:VEVENT
DTSTART;TZID=America/New_York:20260508T180000
DTEND;TZID=America/New_York:20260509T000000
DTSTAMP:20260420T083430
CREATED:20260408T212937Z
LAST-MODIFIED:20260418T184614Z
UID:10001014-1778263200-1778284800@thecopanyc.com
SUMMARY:The Copacabana dj legends Series
DESCRIPTION:IMusic and Passion were always in Fashion\, At the Copa\, Copacabana!\nJoin us for the Official Copacabana Events hosted by the Legendary Owner John Juliano & nightlife impresario Ruben Rubin Cabrera.\n\nMusical voyage provided by Resident DJs.\nDance to Club Classics \, latin & More. \n\nExperience The sound\, sights\, and rhythm of the Iconic Copacabana.\nBe Passionately Greeted by the innovative and nostalgic “Copa Girls”\nEnjoy the midnight immersive performances.\n\nFashion and fun\, think Carnivale in Brazil or a beautiful resort as your fashion inspiration.\nWe welcome you with Ola\, a sultry shot infused with the taste of the tropics until 11pm. \nTable tickets included up to 6 guest per table. If it’s a birthday or any other occasion let us know for a champagne\, cupcakes\, balloons and appetizer on us !! Just give us a call/text 9175591779
URL:https://thecopanyc.com/event/the-copacabana-dj-legends-series/
LOCATION:The Copacabana\, 625 w 51 st\, New York\, NY\, 10019\, United States
ATTACH;FMTTYPE=image/jpeg:https://thecopanyc.com/wp-content/uploads/2026/04/IMG_2177.jpeg
END:VEVENT
BEGIN:VEVENT
DTSTART;TZID=America/New_York:20260509T180000
DTEND;TZID=America/New_York:20260510T000000
DTSTAMP:20260420T083430
CREATED:20260420T004157Z
LAST-MODIFIED:20260420T004157Z
UID:10001017-1778349600-1778371200@thecopanyc.com
SUMMARY:The Copacabana immersive Party
DESCRIPTION:IMusic and Passion were always in Fashion\, At the Copa\, Copacabana!\nJoin us for the Official Copacabana Events hosted by the Legendary Owner John Juliano & nightlife impresario Ruben Rubin Cabrera.\n\nMusical voyage provided by Resident DJs.\nDance to Disco\, latin & More. \n\nExperience The sound\, sights\, and rhythm of the Iconic Copacabana.\nBe Passionately Greeted by the innovative and nostalgic “Copa Girls”\nEnjoy the midnight immersive performances.\n\nFashion and fun\, think Carnivale in Brazil or a beautiful resort as your fashion inspiration.\nWe welcome you with Ola\, a sultry shot infused with the taste of the tropics until 11pm. \nTable tickets included up to 6 guest per table. If it’s a birthday or any other occasion let us know for a champagne\, cupcakes\, balloons and appetizer on us !! Just give us a call/text 9175591779
URL:https://thecopanyc.com/event/the-copacabana-immersive-party-5/
LOCATION:The Copacabana\, 625 w 51 st\, New York\, NY\, 10019\, United States
ATTACH;FMTTYPE=image/jpeg:https://thecopanyc.com/wp-content/uploads/2026/04/IMG_2190.jpeg
END:VEVENT
BEGIN:VEVENT
DTSTART;TZID=America/New_York:20260516T190000
DTEND;TZID=America/New_York:20260517T000000
DTSTAMP:20260420T083430
CREATED:20260323T193228Z
LAST-MODIFIED:20260323T193311Z
UID:10001002-1778958000-1778976000@thecopanyc.com
SUMMARY:The Copacabana  9th Ave festival after Party
DESCRIPTION:IMusic and Passion were always in Fashion\, At the Copa\, Copacabana!\nJoin us for the Official Copacabana Events hosted by the Legendary Owner John Juliano & nightlife impresario Ruben Rubin Cabrera.\n\nMusical voyage provided by Resident DJs.\nDance to Disco \,Salsa\, Bachata\,  & More. \n\nExperience The sound\, sights\, and rhythm of the Iconic Copacabana.\nBe Passionately Greeted by the innovative and nostalgic “Copa Girls”\nEnjoy the midnight immersive performances.\n\nFashion and fun\, think Carnivale in Brazil or a beautiful resort as your fashion inspiration.\nWe welcome you with Ola\, a sultry shot infused with the taste of the tropics until 11pm. \nTable tickets included up to 6 guest per table. If it’s a birthday or any other occasion let us know for a champagne\, cupcakes\, balloons and appetizer on us !! Just give us a call/text 9175591779
URL:https://thecopanyc.com/event/the-copacabana-9th-ave-festival-after-party/
LOCATION:The Copacabana\, 625 w 51 st\, New York\, NY\, 10019\, United States
ATTACH;FMTTYPE=image/jpeg:https://thecopanyc.com/wp-content/uploads/2026/03/IMG_1965.jpeg
END:VEVENT
BEGIN:VEVENT
DTSTART;TZID=America/New_York:20260523T180000
DTEND;TZID=America/New_York:20260524T000000
DTSTAMP:20260420T083430
CREATED:20260411T190039Z
LAST-MODIFIED:20260412T021850Z
UID:10001016-1779559200-1779580800@thecopanyc.com
SUMMARY:GW Reunion Social  Party
DESCRIPTION:IMusic and Passion were always in Fashion\, At the Copa\, Copacabana!\nJoin us for the Official Copacabana Events hosted by the Legendary Owner John Juliano & nightlife impresario Ruben Rubin Cabrera.\n\nMusical voyage provided by Resident DJs.\nDance to Disco\, latin & More. Enjoy\nA 4 Course Buffet Menu &\n3 Hour Open Bar Including a Select Call Liquor Cocktails\, Beer and Wine with Soda & Juices\nAppetizer\nSelection of Crafted Empanadas including:\nBeef\, Chicken\, and Jalapeño with Cheese\nSeafood Ceviche\nSalad\nGreen Garden Salad\nMixed spring greens with grape tomatoes and shredded carrots\nEntrees\nZiti al Forno\nZiti pasta mixed with fresh ricotta\, mozzarella and marinara sauce\nRoasted Chicken\nChicken roasted with spices & herbs\nPepper Steak\nStrips of beef with sautéed fresh onions and peppers\nSeafood Paella\nMix of fresh seafood with saffron-infused rice\nSides\nYellow Rice with Vegetables\nDessert\nAssorted Pastries & Sweets \n\nExperience The sound\, sights\, and rhythm of the Iconic Copacabana.\nBe Passionately Greeted by the innovative and nostalgic “Copa Girls”\nEnjoy the midnight immersive performances.\n\nFashion and fun\, think Carnivale in Brazil or a beautiful resort as your fashion inspiration.\nWe welcome you with Ola\, a sultry shot infused with the taste of the tropics until 11pm. \nTable tickets included up to 6 guest per table. If it’s a birthday or any other occasion let us know for a champagne\, cupcakes\, balloons and appetizer on us !! Just give us a call/text 9175591779
URL:https://thecopanyc.com/event/gw-reunion-social-party/
LOCATION:The Copacabana\, 625 w 51 st\, New York\, NY\, 10019\, United States
ATTACH;FMTTYPE=image/jpeg:https://thecopanyc.com/wp-content/uploads/2026/04/IMG_2083.jpeg
END:VEVENT
BEGIN:VEVENT
DTSTART;TZID=America/New_York:20260627T210000
DTEND;TZID=America/New_York:20260628T030000
DTSTAMP:20260420T083430
CREATED:20260420T005158Z
LAST-MODIFIED:20260420T005158Z
UID:10001018-1782594000-1782615600@thecopanyc.com
SUMMARY:The Copacabana immersive Party
DESCRIPTION:IMusic and Passion were always in Fashion\, At the Copa\, Copacabana!\nJoin us for the Official Copacabana Events hosted by the Legendary Owner John Juliano & nightlife impresario Ruben Rubin Cabrera.\n\nMusical voyage provided by Resident DJs.\nDance to Disco \,Salsa\, Bachata\,  & More. \n\nExperience The sound\, sights\, and rhythm of the Iconic Copacabana.\nBe Passionately Greeted by the innovative and nostalgic “Copa Girls”\nEnjoy the midnight immersive performances.\n\nFashion and fun\, think Carnivale in Brazil or a beautiful resort as your fashion inspiration.\nWe welcome you with Ola\, a sultry shot infused with the taste of the tropics until 11pm. \nTable tickets included up to 6 guest per table. If it’s a birthday or any other occasion let us know for a champagne\, cupcakes\, balloons and appetizer on us !! Just give us a call/text 9175591779
URL:https://thecopanyc.com/event/the-copacabana-immersive-party-6/
LOCATION:The Copacabana\, 625 w 51 st\, New York\, NY\, 10019\, United States
ATTACH;FMTTYPE=image/jpeg:https://thecopanyc.com/wp-content/uploads/2026/04/IMG_2191.jpeg
END:VEVENT
END:VCALENDAR